BEGIN:VCALENDAR
VERSION:2.0
PRODID:-//The Funky Pickle Co - ECPv6.15.6//NONSGML v1.0//EN
CALSCALE:GREGORIAN
METHOD:PUBLISH
X-WR-CALNAME:The Funky Pickle Co
X-ORIGINAL-URL:https://funkypickle.co.uk
X-WR-CALDESC:Events for The Funky Pickle Co
REFRESH-INTERVAL;VALUE=DURATION:PT1H
X-Robots-Tag:noindex
X-PUBLISHED-TTL:PT1H
BEGIN:VTIMEZONE
TZID:Europe/London
BEGIN:DAYLIGHT
TZOFFSETFROM:+0000
TZOFFSETTO:+0100
TZNAME:BST
DTSTART:20250330T010000
END:DAYLIGHT
BEGIN:STANDARD
TZOFFSETFROM:+0100
TZOFFSETTO:+0000
TZNAME:GMT
DTSTART:20251026T010000
END:STANDARD
BEGIN:DAYLIGHT
TZOFFSETFROM:+0000
TZOFFSETTO:+0100
TZNAME:BST
DTSTART:20260329T010000
END:DAYLIGHT
BEGIN:STANDARD
TZOFFSETFROM:+0100
TZOFFSETTO:+0000
TZNAME:GMT
DTSTART:20261025T010000
END:STANDARD
BEGIN:DAYLIGHT
TZOFFSETFROM:+0000
TZOFFSETTO:+0100
TZNAME:BST
DTSTART:20270328T010000
END:DAYLIGHT
BEGIN:STANDARD
TZOFFSETFROM:+0100
TZOFFSETTO:+0000
TZNAME:GMT
DTSTART:20271031T010000
END:STANDARD
END:VTIMEZONE
BEGIN:VEVENT
DTSTART;TZID=Europe/London:20260121T160000
DTEND;TZID=Europe/London:20260121T200000
DTSTAMP:20260421T123020
CREATED:20260119T162238Z
LAST-MODIFIED:20260119T162238Z
UID:10008635-1769011200-1769025600@funkypickle.co.uk
SUMMARY:Alma
DESCRIPTION:
URL:https://funkypickle.co.uk/event/alma/
LOCATION:Alma Pub\, GU9 0LJ
CATEGORIES:Food Truck
END:VEVENT
BEGIN:VEVENT
DTSTART;TZID=Europe/London:20260122T160000
DTEND;TZID=Europe/London:20260122T200000
DTSTAMP:20260421T123020
CREATED:20260119T154711Z
LAST-MODIFIED:20260119T154711Z
UID:10008622-1769097600-1769112000@funkypickle.co.uk
SUMMARY:White Hart
DESCRIPTION:
URL:https://funkypickle.co.uk/event/white-hart-4/2026-01-22/
LOCATION:White Hart Pub\, Station Road\, Over Wallop\, Surrey\, SO20 8H:U\, United Kingdom
CATEGORIES:Food Truck
END:VEVENT
BEGIN:VEVENT
DTSTART;TZID=Europe/London:20260123T160000
DTEND;TZID=Europe/London:20260123T200000
DTSTAMP:20260421T123020
CREATED:20260119T155343Z
LAST-MODIFIED:20260119T155343Z
UID:10008632-1769184000-1769198400@funkypickle.co.uk
SUMMARY:Liss Pavillion
DESCRIPTION:
URL:https://funkypickle.co.uk/event/liss-pavillion/2026-01-23/
LOCATION:Liss Pavillion\, Station Road\, Liss\, Surrey\, GU33 7AQ\, United Kingdom
CATEGORIES:Food Truck
END:VEVENT
BEGIN:VEVENT
DTSTART;TZID=Europe/London:20260124T120000
DTEND;TZID=Europe/London:20260124T190000
DTSTAMP:20260421T123020
CREATED:20260119T155715Z
LAST-MODIFIED:20260119T155715Z
UID:10008634-1769256000-1769281200@funkypickle.co.uk
SUMMARY:Elusive Brewery
DESCRIPTION:
URL:https://funkypickle.co.uk/event/elusive-brewery-3/
LOCATION:Elusive\, Unit 7 Marino Way\, Hogwood Industrial Estate\, Wokingham\, RG40 4QQ\, United Kingdom
CATEGORIES:Food Truck
END:VEVENT
BEGIN:VEVENT
DTSTART;TZID=Europe/London:20260129T160000
DTEND;TZID=Europe/London:20260129T200000
DTSTAMP:20260421T123020
CREATED:20260119T162742Z
LAST-MODIFIED:20260119T162742Z
UID:10008636-1769702400-1769716800@funkypickle.co.uk
SUMMARY:Breach Farm
DESCRIPTION:
URL:https://funkypickle.co.uk/event/breach-farm/
LOCATION:Breach Farm Brewing\, Haydown Farm\, East Cholderton\, Andover\, SP11 8LR\, United Kingdom
CATEGORIES:Food Truck
END:VEVENT
BEGIN:VEVENT
DTSTART;TZID=Europe/London:20260131T140000
DTEND;TZID=Europe/London:20260131T203000
DTSTAMP:20260421T123020
CREATED:20260119T163024Z
LAST-MODIFIED:20260119T163024Z
UID:10008637-1769868000-1769891400@funkypickle.co.uk
SUMMARY:Delphic
DESCRIPTION:
URL:https://funkypickle.co.uk/event/delphic/2026-01-31/
LOCATION:Delphic Brewery\, Mayors Lane\, Newbury\, West Berkshire\, RG14 5DR\, United Kingdom
CATEGORIES:Food Truck
END:VEVENT
END:VCALENDAR