BEGIN:VCALENDAR
VERSION:2.0
PRODID:-//The Funky Pickle Co - ECPv6.15.6//NONSGML v1.0//EN
CALSCALE:GREGORIAN
METHOD:PUBLISH
X-WR-CALNAME:The Funky Pickle Co
X-ORIGINAL-URL:https://funkypickle.co.uk
X-WR-CALDESC:Events for The Funky Pickle Co
REFRESH-INTERVAL;VALUE=DURATION:PT1H
X-Robots-Tag:noindex
X-PUBLISHED-TTL:PT1H
BEGIN:VTIMEZONE
TZID:Europe/London
BEGIN:DAYLIGHT
TZOFFSETFROM:+0000
TZOFFSETTO:+0100
TZNAME:BST
DTSTART:20230326T010000
END:DAYLIGHT
BEGIN:STANDARD
TZOFFSETFROM:+0100
TZOFFSETTO:+0000
TZNAME:GMT
DTSTART:20231029T010000
END:STANDARD
BEGIN:DAYLIGHT
TZOFFSETFROM:+0000
TZOFFSETTO:+0100
TZNAME:BST
DTSTART:20240331T010000
END:DAYLIGHT
BEGIN:STANDARD
TZOFFSETFROM:+0100
TZOFFSETTO:+0000
TZNAME:GMT
DTSTART:20241027T010000
END:STANDARD
BEGIN:DAYLIGHT
TZOFFSETFROM:+0000
TZOFFSETTO:+0100
TZNAME:BST
DTSTART:20250330T010000
END:DAYLIGHT
BEGIN:STANDARD
TZOFFSETFROM:+0100
TZOFFSETTO:+0000
TZNAME:GMT
DTSTART:20251026T010000
END:STANDARD
BEGIN:DAYLIGHT
TZOFFSETFROM:+0000
TZOFFSETTO:+0100
TZNAME:BST
DTSTART:20260329T010000
END:DAYLIGHT
BEGIN:STANDARD
TZOFFSETFROM:+0100
TZOFFSETTO:+0000
TZNAME:GMT
DTSTART:20261025T010000
END:STANDARD
BEGIN:DAYLIGHT
TZOFFSETFROM:+0000
TZOFFSETTO:+0100
TZNAME:BST
DTSTART:20270328T010000
END:DAYLIGHT
BEGIN:STANDARD
TZOFFSETFROM:+0100
TZOFFSETTO:+0000
TZNAME:GMT
DTSTART:20271031T010000
END:STANDARD
END:VTIMEZONE
BEGIN:VEVENT
DTSTART;TZID=Europe/London:20260410T160000
DTEND;TZID=Europe/London:20260410T200000
DTSTAMP:20260422T021639
CREATED:20260323T104728Z
LAST-MODIFIED:20260323T104728Z
UID:10008650-1775836800-1775851200@funkypickle.co.uk
SUMMARY:Breach Farm
DESCRIPTION:
URL:https://funkypickle.co.uk/event/breach-farm-4/2026-04-10/
LOCATION:Breach Farm Brewing\, Haydown Farm\, East Cholderton\, Andover\, SP11 8LR\, United Kingdom
CATEGORIES:Food Truck
END:VEVENT
BEGIN:VEVENT
DTSTART;TZID=Europe/London:20260326T160000
DTEND;TZID=Europe/London:20260326T200000
DTSTAMP:20260422T021639
CREATED:20260323T104728Z
LAST-MODIFIED:20260323T104728Z
UID:10008649-1774540800-1774555200@funkypickle.co.uk
SUMMARY:Breach Farm
DESCRIPTION:
URL:https://funkypickle.co.uk/event/breach-farm-4/2026-03-26/
LOCATION:Breach Farm Brewing\, Haydown Farm\, East Cholderton\, Andover\, SP11 8LR\, United Kingdom
CATEGORIES:Food Truck
END:VEVENT
BEGIN:VEVENT
DTSTART;TZID=Europe/London:20260226T160000
DTEND;TZID=Europe/London:20260226T200000
DTSTAMP:20260422T021639
CREATED:20260219T171224Z
LAST-MODIFIED:20260219T171224Z
UID:10008641-1772121600-1772136000@funkypickle.co.uk
SUMMARY:Breach Farm
DESCRIPTION:
URL:https://funkypickle.co.uk/event/breach-farm-2/
LOCATION:Breach Farm Brewing\, Haydown Farm\, East Cholderton\, Andover\, SP11 8LR\, United Kingdom
CATEGORIES:Food Truck
END:VEVENT
BEGIN:VEVENT
DTSTART;TZID=Europe/London:20260129T160000
DTEND;TZID=Europe/London:20260129T200000
DTSTAMP:20260422T021639
CREATED:20260119T162742Z
LAST-MODIFIED:20260119T162742Z
UID:10008636-1769702400-1769716800@funkypickle.co.uk
SUMMARY:Breach Farm
DESCRIPTION:
URL:https://funkypickle.co.uk/event/breach-farm/
LOCATION:Breach Farm Brewing\, Haydown Farm\, East Cholderton\, Andover\, SP11 8LR\, United Kingdom
CATEGORIES:Food Truck
END:VEVENT
BEGIN:VEVENT
DTSTART;TZID=Europe/London:20251122T160000
DTEND;TZID=Europe/London:20251122T203000
DTSTAMP:20260422T021639
CREATED:20251113T112621Z
LAST-MODIFIED:20251113T112621Z
UID:10008435-1763827200-1763843400@funkypickle.co.uk
SUMMARY:Breach Farm Brewing
DESCRIPTION:
URL:https://funkypickle.co.uk/event/breach-farm-brewing-5-2/
LOCATION:Breach Farm Brewing\, Haydown Farm\, East Cholderton\, Andover\, SP11 8LR\, United Kingdom
CATEGORIES:Food Truck
END:VEVENT
BEGIN:VEVENT
DTSTART;TZID=Europe/London:20241109T120000
DTEND;TZID=Europe/London:20241109T200000
DTSTAMP:20260422T021639
CREATED:20241014T121620Z
LAST-MODIFIED:20241030T125040Z
UID:10008434-1731153600-1731182400@funkypickle.co.uk
SUMMARY:Breach Farm Brewing
DESCRIPTION:
URL:https://funkypickle.co.uk/event/breach-farm-brewing-5/2024-11-09/
LOCATION:Breach Farm Brewing\, Haydown Farm\, East Cholderton\, Andover\, SP11 8LR\, United Kingdom
CATEGORIES:Food Truck
END:VEVENT
BEGIN:VEVENT
DTSTART;TZID=Europe/London:20241031T120000
DTEND;TZID=Europe/London:20241031T200000
DTSTAMP:20260422T021639
CREATED:20241014T121620Z
LAST-MODIFIED:20241030T125040Z
UID:10008431-1730376000-1730404800@funkypickle.co.uk
SUMMARY:Breach Farm Brewing
DESCRIPTION:
URL:https://funkypickle.co.uk/event/breach-farm-brewing-5/2024-10-31/
LOCATION:Breach Farm Brewing\, Haydown Farm\, East Cholderton\, Andover\, SP11 8LR\, United Kingdom
CATEGORIES:Food Truck
END:VEVENT
BEGIN:VEVENT
DTSTART;TZID=Europe/London:20241019T120000
DTEND;TZID=Europe/London:20241019T200000
DTSTAMP:20260422T021639
CREATED:20241014T121521Z
LAST-MODIFIED:20241014T121521Z
UID:10008430-1729339200-1729368000@funkypickle.co.uk
SUMMARY:Breach Farm Brewing
DESCRIPTION:
URL:https://funkypickle.co.uk/event/breach-farm-brewing-4/
LOCATION:Breach Farm Brewing\, Haydown Farm\, East Cholderton\, Andover\, SP11 8LR\, United Kingdom
CATEGORIES:Food Truck
END:VEVENT
BEGIN:VEVENT
DTSTART;TZID=Europe/London:20240728T130000
DTEND;TZID=Europe/London:20240728T180000
DTSTAMP:20260422T021639
CREATED:20240229T085140Z
LAST-MODIFIED:20240725T172637Z
UID:10007093-1722171600-1722189600@funkypickle.co.uk
SUMMARY:Breach Farm Brewing
DESCRIPTION:
URL:https://funkypickle.co.uk/event/breach-farm-brewing-3/2024-07-28/
LOCATION:Breach Farm Brewing\, Haydown Farm\, East Cholderton\, Andover\, SP11 8LR\, United Kingdom
CATEGORIES:Food Truck
END:VEVENT
BEGIN:VEVENT
DTSTART;TZID=Europe/London:20240720T120000
DTEND;TZID=Europe/London:20240720T203000
DTSTAMP:20260422T021639
CREATED:20240229T085140Z
LAST-MODIFIED:20240725T172637Z
UID:10007087-1721476800-1721507400@funkypickle.co.uk
SUMMARY:Breach Farm Brewing
DESCRIPTION:
URL:https://funkypickle.co.uk/event/breach-farm-brewing-3/2024-07-20/
LOCATION:Breach Farm Brewing\, Haydown Farm\, East Cholderton\, Andover\, SP11 8LR\, United Kingdom
CATEGORIES:Food Truck
END:VEVENT
BEGIN:VEVENT
DTSTART;TZID=Europe/London:20240614T120000
DTEND;TZID=Europe/London:20240614T200000
DTSTAMP:20260422T021639
CREATED:20240229T085140Z
LAST-MODIFIED:20240725T172637Z
UID:10007086-1718366400-1718395200@funkypickle.co.uk
SUMMARY:Breach Farm Brewing
DESCRIPTION:
URL:https://funkypickle.co.uk/event/breach-farm-brewing-3/2024-06-14/
LOCATION:Breach Farm Brewing\, Haydown Farm\, East Cholderton\, Andover\, SP11 8LR\, United Kingdom
CATEGORIES:Food Truck
END:VEVENT
BEGIN:VEVENT
DTSTART;TZID=Europe/London:20240518T120000
DTEND;TZID=Europe/London:20240518T200000
DTSTAMP:20260422T021639
CREATED:20240229T085140Z
LAST-MODIFIED:20240725T172637Z
UID:10003056-1716033600-1716062400@funkypickle.co.uk
SUMMARY:Breach Farm Brewing
DESCRIPTION:
URL:https://funkypickle.co.uk/event/breach-farm-brewing-3/2024-05-18/
LOCATION:Breach Farm Brewing\, Haydown Farm\, East Cholderton\, Andover\, SP11 8LR\, United Kingdom
CATEGORIES:Food Truck
END:VEVENT
BEGIN:VEVENT
DTSTART;TZID=Europe/London:20240330T120000
DTEND;TZID=Europe/London:20240330T200000
DTSTAMP:20260422T021639
CREATED:20240226T181747Z
LAST-MODIFIED:20240226T181747Z
UID:10003053-1711800000-1711828800@funkypickle.co.uk
SUMMARY:Breach Farm Brewing
DESCRIPTION:
URL:https://funkypickle.co.uk/event/breach-farm-brewing/
LOCATION:Breach Farm Brewing\, Haydown Farm\, East Cholderton\, Andover\, SP11 8LR\, United Kingdom
CATEGORIES:Food Truck
END:VEVENT
END:VCALENDAR