BEGIN:VCALENDAR
VERSION:2.0
PRODID:-//The Funky Pickle Co - ECPv6.15.6//NONSGML v1.0//EN
CALSCALE:GREGORIAN
METHOD:PUBLISH
X-ORIGINAL-URL:https://funkypickle.co.uk
X-WR-CALDESC:Events for The Funky Pickle Co
REFRESH-INTERVAL;VALUE=DURATION:PT1H
X-Robots-Tag:noindex
X-PUBLISHED-TTL:PT1H
BEGIN:VTIMEZONE
TZID:Europe/London
BEGIN:DAYLIGHT
TZOFFSETFROM:+0000
TZOFFSETTO:+0100
TZNAME:BST
DTSTART:20250330T010000
END:DAYLIGHT
BEGIN:STANDARD
TZOFFSETFROM:+0100
TZOFFSETTO:+0000
TZNAME:GMT
DTSTART:20251026T010000
END:STANDARD
BEGIN:DAYLIGHT
TZOFFSETFROM:+0000
TZOFFSETTO:+0100
TZNAME:BST
DTSTART:20260329T010000
END:DAYLIGHT
BEGIN:STANDARD
TZOFFSETFROM:+0100
TZOFFSETTO:+0000
TZNAME:GMT
DTSTART:20261025T010000
END:STANDARD
BEGIN:DAYLIGHT
TZOFFSETFROM:+0000
TZOFFSETTO:+0100
TZNAME:BST
DTSTART:20270328T010000
END:DAYLIGHT
BEGIN:STANDARD
TZOFFSETFROM:+0100
TZOFFSETTO:+0000
TZNAME:GMT
DTSTART:20271031T010000
END:STANDARD
END:VTIMEZONE
BEGIN:VEVENT
DTSTART;TZID=Europe/London:20260423T160000
DTEND;TZID=Europe/London:20260423T200000
DTSTAMP:20260422T004050
CREATED:20260323T104728Z
LAST-MODIFIED:20260323T104728Z
UID:10008651-1776960000-1776974400@funkypickle.co.uk
SUMMARY:Breach Farm
DESCRIPTION:
URL:https://funkypickle.co.uk/event/breach-farm-4/2026-04-23/
LOCATION:Breach Farm Brewing\, Haydown Farm\, East Cholderton\, Andover\, SP11 8LR\, United Kingdom
CATEGORIES:Food Truck
END:VEVENT
BEGIN:VEVENT
DTSTART;TZID=Europe/London:20260507T160000
DTEND;TZID=Europe/London:20260507T203000
DTSTAMP:20260422T004050
CREATED:20260410T112332Z
LAST-MODIFIED:20260412T081107Z
UID:10008672-1778169600-1778185800@funkypickle.co.uk
SUMMARY:Breach Farm
DESCRIPTION:
URL:https://funkypickle.co.uk/event/breach-farm-5/2026-05-07/
LOCATION:Breach Farm Brewing\, Haydown Farm\, East Cholderton\, Andover\, SP11 8LR\, United Kingdom
CATEGORIES:Food Truck
END:VEVENT
BEGIN:VEVENT
DTSTART;TZID=Europe/London:20260523T160000
DTEND;TZID=Europe/London:20260523T203000
DTSTAMP:20260422T004050
CREATED:20260410T112332Z
LAST-MODIFIED:20260412T081107Z
UID:10008675-1779552000-1779568200@funkypickle.co.uk
SUMMARY:Breach Farm
DESCRIPTION:
URL:https://funkypickle.co.uk/event/breach-farm-5/2026-05-23/
LOCATION:Breach Farm Brewing\, Haydown Farm\, East Cholderton\, Andover\, SP11 8LR\, United Kingdom
CATEGORIES:Food Truck
END:VEVENT
END:VCALENDAR