BEGIN:VCALENDAR
VERSION:2.0
PRODID:-//The Funky Pickle Co - ECPv6.15.6//NONSGML v1.0//EN
CALSCALE:GREGORIAN
METHOD:PUBLISH
X-WR-CALNAME:The Funky Pickle Co
X-ORIGINAL-URL:https://funkypickle.co.uk
X-WR-CALDESC:Events for The Funky Pickle Co
REFRESH-INTERVAL;VALUE=DURATION:PT1H
X-Robots-Tag:noindex
X-PUBLISHED-TTL:PT1H
BEGIN:VTIMEZONE
TZID:Europe/London
BEGIN:DAYLIGHT
TZOFFSETFROM:+0000
TZOFFSETTO:+0100
TZNAME:BST
DTSTART:20210328T010000
END:DAYLIGHT
BEGIN:STANDARD
TZOFFSETFROM:+0100
TZOFFSETTO:+0000
TZNAME:GMT
DTSTART:20211031T010000
END:STANDARD
BEGIN:DAYLIGHT
TZOFFSETFROM:+0000
TZOFFSETTO:+0100
TZNAME:BST
DTSTART:20220327T010000
END:DAYLIGHT
BEGIN:STANDARD
TZOFFSETFROM:+0100
TZOFFSETTO:+0000
TZNAME:GMT
DTSTART:20221030T010000
END:STANDARD
BEGIN:DAYLIGHT
TZOFFSETFROM:+0000
TZOFFSETTO:+0100
TZNAME:BST
DTSTART:20230326T010000
END:DAYLIGHT
BEGIN:STANDARD
TZOFFSETFROM:+0100
TZOFFSETTO:+0000
TZNAME:GMT
DTSTART:20231029T010000
END:STANDARD
BEGIN:DAYLIGHT
TZOFFSETFROM:+0000
TZOFFSETTO:+0100
TZNAME:BST
DTSTART:20240331T010000
END:DAYLIGHT
BEGIN:STANDARD
TZOFFSETFROM:+0100
TZOFFSETTO:+0000
TZNAME:GMT
DTSTART:20241027T010000
END:STANDARD
BEGIN:DAYLIGHT
TZOFFSETFROM:+0000
TZOFFSETTO:+0100
TZNAME:BST
DTSTART:20250330T010000
END:DAYLIGHT
BEGIN:STANDARD
TZOFFSETFROM:+0100
TZOFFSETTO:+0000
TZNAME:GMT
DTSTART:20251026T010000
END:STANDARD
BEGIN:DAYLIGHT
TZOFFSETFROM:+0000
TZOFFSETTO:+0100
TZNAME:BST
DTSTART:20260329T010000
END:DAYLIGHT
BEGIN:STANDARD
TZOFFSETFROM:+0100
TZOFFSETTO:+0000
TZNAME:GMT
DTSTART:20261025T010000
END:STANDARD
BEGIN:DAYLIGHT
TZOFFSETFROM:+0000
TZOFFSETTO:+0100
TZNAME:BST
DTSTART:20270328T010000
END:DAYLIGHT
BEGIN:STANDARD
TZOFFSETFROM:+0100
TZOFFSETTO:+0000
TZNAME:GMT
DTSTART:20271031T010000
END:STANDARD
END:VTIMEZONE
BEGIN:VEVENT
DTSTART;TZID=Europe/London:20260201T120000
DTEND;TZID=Europe/London:20260201T170000
DTSTAMP:20260422T145740
CREATED:20260119T164209Z
LAST-MODIFIED:20260119T164209Z
UID:10008639-1769947200-1769965200@funkypickle.co.uk
SUMMARY:Loddon Brewery
DESCRIPTION:
URL:https://funkypickle.co.uk/event/loddon-brewery-10/
LOCATION:Loddon Brewery\, Lodden Brewery\, Dunsden Green Farm/Church La\, Reading\, RG4 9QD\, United Kingdom
CATEGORIES:Food Truck
END:VEVENT
BEGIN:VEVENT
DTSTART;TZID=Europe/London:20230212T120000
DTEND;TZID=Europe/London:20230212T210000
DTSTAMP:20260422T145740
CREATED:20230131T131848Z
LAST-MODIFIED:20230131T131848Z
UID:10001183-1676203200-1676235600@funkypickle.co.uk
SUMMARY:Loddon Brewery
DESCRIPTION:
URL:https://funkypickle.co.uk/event/loddon-brewery-9/
LOCATION:Loddon Brewery\, Lodden Brewery\, Dunsden Green Farm/Church La\, Reading\, RG4 9QD\, United Kingdom
CATEGORIES:Food Truck
END:VEVENT
BEGIN:VEVENT
DTSTART;TZID=Europe/London:20230205T120000
DTEND;TZID=Europe/London:20230205T210000
DTSTAMP:20260422T145740
CREATED:20230131T131714Z
LAST-MODIFIED:20230131T131714Z
UID:10001182-1675598400-1675630800@funkypickle.co.uk
SUMMARY:Loddon Brewery
DESCRIPTION:
URL:https://funkypickle.co.uk/event/loddon-brewery-8/
LOCATION:Loddon Brewery\, Lodden Brewery\, Dunsden Green Farm/Church La\, Reading\, RG4 9QD\, United Kingdom
CATEGORIES:Food Truck
END:VEVENT
BEGIN:VEVENT
DTSTART;TZID=Europe/London:20230106T170000
DTEND;TZID=Europe/London:20230106T210000
DTSTAMP:20260422T145740
CREATED:20230106T110841Z
LAST-MODIFIED:20230106T110841Z
UID:10001138-1673024400-1673038800@funkypickle.co.uk
SUMMARY:Loddon Brewery
DESCRIPTION:
URL:https://funkypickle.co.uk/event/loddon-brewery-7/
LOCATION:Loddon Brewery\, Lodden Brewery\, Dunsden Green Farm/Church La\, Reading\, RG4 9QD\, United Kingdom
CATEGORIES:Food Truck
END:VEVENT
BEGIN:VEVENT
DTSTART;TZID=Europe/London:20221209T170000
DTEND;TZID=Europe/London:20221209T210000
DTSTAMP:20260422T145740
CREATED:20221101T110344Z
LAST-MODIFIED:20221101T110344Z
UID:10000597-1670605200-1670619600@funkypickle.co.uk
SUMMARY:Loddon Brewery
DESCRIPTION:
URL:https://funkypickle.co.uk/event/loddon-brewery-6/
LOCATION:Loddon Brewery\, Lodden Brewery\, Dunsden Green Farm/Church La\, Reading\, RG4 9QD\, United Kingdom
CATEGORIES:Food Truck
END:VEVENT
BEGIN:VEVENT
DTSTART;TZID=Europe/London:20221129T160000
DTEND;TZID=Europe/London:20221129T210000
DTSTAMP:20260422T145740
CREATED:20221101T110116Z
LAST-MODIFIED:20221101T110116Z
UID:10000593-1669737600-1669755600@funkypickle.co.uk
SUMMARY:Loddon Brewery
DESCRIPTION:
URL:https://funkypickle.co.uk/event/loddon-brewery-5/
LOCATION:Loddon Brewery\, Lodden Brewery\, Dunsden Green Farm/Church La\, Reading\, RG4 9QD\, United Kingdom
CATEGORIES:Food Truck
END:VEVENT
BEGIN:VEVENT
DTSTART;TZID=Europe/London:20221125T170000
DTEND;TZID=Europe/London:20221125T210000
DTSTAMP:20260422T145740
CREATED:20221101T110038Z
LAST-MODIFIED:20221101T110038Z
UID:10001005-1669395600-1669410000@funkypickle.co.uk
SUMMARY:Loddon Brewery
DESCRIPTION:
URL:https://funkypickle.co.uk/event/loddon-brewery-4/
LOCATION:Loddon Brewery\, Lodden Brewery\, Dunsden Green Farm/Church La\, Reading\, RG4 9QD\, United Kingdom
CATEGORIES:Food Truck
END:VEVENT
BEGIN:VEVENT
DTSTART;TZID=Europe/London:20221118T170000
DTEND;TZID=Europe/London:20221118T210000
DTSTAMP:20260422T145740
CREATED:20221101T105754Z
LAST-MODIFIED:20221101T105754Z
UID:10001136-1668790800-1668805200@funkypickle.co.uk
SUMMARY:Loddon Brewery
DESCRIPTION:
URL:https://funkypickle.co.uk/event/loddon-brewery-3/
LOCATION:Loddon Brewery\, Lodden Brewery\, Dunsden Green Farm/Church La\, Reading\, RG4 9QD\, United Kingdom
CATEGORIES:Food Truck
END:VEVENT
BEGIN:VEVENT
DTSTART;TZID=Europe/London:20221028T170000
DTEND;TZID=Europe/London:20221028T210000
DTSTAMP:20260422T145740
CREATED:20221101T104919Z
LAST-MODIFIED:20221101T104919Z
UID:10001130-1666976400-1666990800@funkypickle.co.uk
SUMMARY:Lodden Brewery
DESCRIPTION:
URL:https://funkypickle.co.uk/event/lodden-brewery-3/
LOCATION:Loddon Brewery\, Lodden Brewery\, Dunsden Green Farm/Church La\, Reading\, RG4 9QD\, United Kingdom
CATEGORIES:Food Truck
END:VEVENT
BEGIN:VEVENT
DTSTART;TZID=Europe/London:20221028T160000
DTEND;TZID=Europe/London:20221028T200000
DTSTAMP:20260422T145740
CREATED:20221005T103130Z
LAST-MODIFIED:20221005T103130Z
UID:10001024-1666972800-1666987200@funkypickle.co.uk
SUMMARY:Loddon Brewery
DESCRIPTION:
URL:https://funkypickle.co.uk/event/loddon-brewery-2/
LOCATION:Loddon Brewery\, Lodden Brewery\, Dunsden Green Farm/Church La\, Reading\, RG4 9QD\, United Kingdom
END:VEVENT
BEGIN:VEVENT
DTSTART;TZID=Europe/London:20220818T170000
DTEND;TZID=Europe/London:20220818T210000
DTSTAMP:20260422T145740
CREATED:20220715T105813Z
LAST-MODIFIED:20220715T105813Z
UID:10001127-1660842000-1660856400@funkypickle.co.uk
SUMMARY:Loddon Brewery
DESCRIPTION:
URL:https://funkypickle.co.uk/event/loddon-brewery/
LOCATION:Loddon Brewery\, Lodden Brewery\, Dunsden Green Farm/Church La\, Reading\, RG4 9QD\, United Kingdom
END:VEVENT
BEGIN:VEVENT
DTSTART;TZID=Europe/London:20220708T120000
DTEND;TZID=Europe/London:20220708T210000
DTSTAMP:20260422T145740
CREATED:20220610T104109Z
LAST-MODIFIED:20220610T104109Z
UID:10001030-1657281600-1657314000@funkypickle.co.uk
SUMMARY:Lodden Brewery
DESCRIPTION:
URL:https://funkypickle.co.uk/event/lodden-brewery-2/
LOCATION:Loddon Brewery\, Lodden Brewery\, Dunsden Green Farm/Church La\, Reading\, RG4 9QD\, United Kingdom
END:VEVENT
BEGIN:VEVENT
DTSTART;TZID=Europe/London:20220619T120000
DTEND;TZID=Europe/London:20220619T210000
DTSTAMP:20260422T145740
CREATED:20220609T233352Z
LAST-MODIFIED:20220609T233352Z
UID:10001027-1655640000-1655672400@funkypickle.co.uk
SUMMARY:Lodden Brewery
DESCRIPTION:
URL:https://funkypickle.co.uk/event/lodden-brewery/
LOCATION:Loddon Brewery\, Lodden Brewery\, Dunsden Green Farm/Church La\, Reading\, RG4 9QD\, United Kingdom
END:VEVENT
END:VCALENDAR