BEGIN:VCALENDAR
VERSION:2.0
PRODID:-//The Funky Pickle Co - ECPv6.15.6//NONSGML v1.0//EN
CALSCALE:GREGORIAN
METHOD:PUBLISH
X-WR-CALNAME:The Funky Pickle Co
X-ORIGINAL-URL:https://funkypickle.co.uk
X-WR-CALDESC:Events for The Funky Pickle Co
REFRESH-INTERVAL;VALUE=DURATION:PT1H
X-Robots-Tag:noindex
X-PUBLISHED-TTL:PT1H
BEGIN:VTIMEZONE
TZID:Europe/London
BEGIN:DAYLIGHT
TZOFFSETFROM:+0000
TZOFFSETTO:+0100
TZNAME:BST
DTSTART:20210328T010000
END:DAYLIGHT
BEGIN:STANDARD
TZOFFSETFROM:+0100
TZOFFSETTO:+0000
TZNAME:GMT
DTSTART:20211031T010000
END:STANDARD
BEGIN:DAYLIGHT
TZOFFSETFROM:+0000
TZOFFSETTO:+0100
TZNAME:BST
DTSTART:20220327T010000
END:DAYLIGHT
BEGIN:STANDARD
TZOFFSETFROM:+0100
TZOFFSETTO:+0000
TZNAME:GMT
DTSTART:20221030T010000
END:STANDARD
BEGIN:DAYLIGHT
TZOFFSETFROM:+0000
TZOFFSETTO:+0100
TZNAME:BST
DTSTART:20230326T010000
END:DAYLIGHT
BEGIN:STANDARD
TZOFFSETFROM:+0100
TZOFFSETTO:+0000
TZNAME:GMT
DTSTART:20231029T010000
END:STANDARD
BEGIN:DAYLIGHT
TZOFFSETFROM:+0000
TZOFFSETTO:+0100
TZNAME:BST
DTSTART:20240331T010000
END:DAYLIGHT
BEGIN:STANDARD
TZOFFSETFROM:+0100
TZOFFSETTO:+0000
TZNAME:GMT
DTSTART:20241027T010000
END:STANDARD
END:VTIMEZONE
BEGIN:VEVENT
DTSTART;TZID=Europe/London:20230902T120000
DTEND;TZID=Europe/London:20230902T200000
DTSTAMP:20260422T131917
CREATED:20230827T184407Z
LAST-MODIFIED:20230827T184407Z
UID:10001317-1693656000-1693684800@funkypickle.co.uk
SUMMARY:Siren Tap Brewery
DESCRIPTION:
URL:https://funkypickle.co.uk/event/siren-tap-brewery/
LOCATION:Siren Brewery\, Marino Way\, 18\, Alberto House\, Wokingham\, RG40 4QZ\, United Kingdom
CATEGORIES:Food Truck
END:VEVENT
BEGIN:VEVENT
DTSTART;TZID=Europe/London:20230304T120000
DTEND;TZID=Europe/London:20230304T210000
DTSTAMP:20260422T131917
CREATED:20230131T132326Z
LAST-MODIFIED:20230131T132338Z
UID:10001002-1677931200-1677963600@funkypickle.co.uk
SUMMARY:Siren Brewery
DESCRIPTION:
URL:https://funkypickle.co.uk/event/siren-brewery-10/
LOCATION:Siren Brewery\, Marino Way\, 18\, Alberto House\, Wokingham\, RG40 4QZ\, United Kingdom
CATEGORIES:Food Truck
END:VEVENT
BEGIN:VEVENT
DTSTART;TZID=Europe/London:20230204T120000
DTEND;TZID=Europe/London:20230204T210000
DTSTAMP:20260422T131917
CREATED:20230131T131610Z
LAST-MODIFIED:20230131T131610Z
UID:10001181-1675512000-1675544400@funkypickle.co.uk
SUMMARY:Siren Brewery
DESCRIPTION:
URL:https://funkypickle.co.uk/event/siren-brewery-9/
LOCATION:Siren Brewery\, Marino Way\, 18\, Alberto House\, Wokingham\, RG40 4QZ\, United Kingdom
CATEGORIES:Food Truck
END:VEVENT
BEGIN:VEVENT
DTSTART;TZID=Europe/London:20230128T120000
DTEND;TZID=Europe/London:20230128T210000
DTSTAMP:20260422T131917
CREATED:20230106T111320Z
LAST-MODIFIED:20230106T111320Z
UID:10001167-1674907200-1674939600@funkypickle.co.uk
SUMMARY:Siren Brewery
DESCRIPTION:
URL:https://funkypickle.co.uk/event/siren-brewery-8/
LOCATION:Siren Brewery\, Marino Way\, 18\, Alberto House\, Wokingham\, RG40 4QZ\, United Kingdom
CATEGORIES:Food Truck
END:VEVENT
BEGIN:VEVENT
DTSTART;TZID=Europe/London:20221203T120000
DTEND;TZID=Europe/London:20221203T200000
DTSTAMP:20260422T131917
CREATED:20221101T110230Z
LAST-MODIFIED:20221101T110230Z
UID:10000595-1670068800-1670097600@funkypickle.co.uk
SUMMARY:Siren Brewery
DESCRIPTION:
URL:https://funkypickle.co.uk/event/siren-brewery-7/
LOCATION:Siren Brewery\, Marino Way\, 18\, Alberto House\, Wokingham\, RG40 4QZ\, United Kingdom
CATEGORIES:Food Truck
END:VEVENT
BEGIN:VEVENT
DTSTART;TZID=Europe/London:20221105T120000
DTEND;TZID=Europe/London:20221105T200000
DTSTAMP:20260422T131917
CREATED:20221101T105528Z
LAST-MODIFIED:20221101T105528Z
UID:10001133-1667649600-1667678400@funkypickle.co.uk
SUMMARY:Siren Brewery
DESCRIPTION:
URL:https://funkypickle.co.uk/event/siren-brewery-6/
LOCATION:Siren Brewery\, Marino Way\, 18\, Alberto House\, Wokingham\, RG40 4QZ\, United Kingdom
CATEGORIES:Food Truck
END:VEVENT
BEGIN:VEVENT
DTSTART;TZID=Europe/London:20221029T120000
DTEND;TZID=Europe/London:20221029T200000
DTSTAMP:20260422T131917
CREATED:20221005T103237Z
LAST-MODIFIED:20221005T103237Z
UID:10001129-1667044800-1667073600@funkypickle.co.uk
SUMMARY:Siren Brewery
DESCRIPTION:
URL:https://funkypickle.co.uk/event/siren-brewery-5/
LOCATION:Siren Brewery\, Marino Way\, 18\, Alberto House\, Wokingham\, RG40 4QZ\, United Kingdom
END:VEVENT
BEGIN:VEVENT
DTSTART;TZID=Europe/London:20221015T120000
DTEND;TZID=Europe/London:20221015T200000
DTSTAMP:20260422T131917
CREATED:20221005T102656Z
LAST-MODIFIED:20221005T102847Z
UID:10001006-1665835200-1665864000@funkypickle.co.uk
SUMMARY:Siren Brewery
DESCRIPTION:
URL:https://funkypickle.co.uk/event/siren-brewery-4/
LOCATION:Siren Brewery\, Marino Way\, 18\, Alberto House\, Wokingham\, RG40 4QZ\, United Kingdom
END:VEVENT
BEGIN:VEVENT
DTSTART;TZID=Europe/London:20220910T120000
DTEND;TZID=Europe/London:20220910T200000
DTSTAMP:20260422T131917
CREATED:20220826T123111Z
LAST-MODIFIED:20220826T123111Z
UID:10001013-1662811200-1662840000@funkypickle.co.uk
SUMMARY:Siren Brewery
DESCRIPTION:
URL:https://funkypickle.co.uk/event/siren-brewery-3/
LOCATION:Siren Brewery\, Marino Way\, 18\, Alberto House\, Wokingham\, RG40 4QZ\, United Kingdom
END:VEVENT
BEGIN:VEVENT
DTSTART;TZID=Europe/London:20220702T120000
DTEND;TZID=Europe/London:20220702T210000
DTSTAMP:20260422T131917
CREATED:20220610T104006Z
LAST-MODIFIED:20220610T104017Z
UID:10001029-1656763200-1656795600@funkypickle.co.uk
SUMMARY:Siren Brewery
DESCRIPTION:
URL:https://funkypickle.co.uk/event/siren-brewery-2/
LOCATION:Siren Brewery\, Marino Way\, 18\, Alberto House\, Wokingham\, RG40 4QZ\, United Kingdom
END:VEVENT
BEGIN:VEVENT
DTSTART;TZID=Europe/London:20220618T120000
DTEND;TZID=Europe/London:20220618T210000
DTSTAMP:20260422T131917
CREATED:20220609T233308Z
LAST-MODIFIED:20220609T233308Z
UID:10001026-1655553600-1655586000@funkypickle.co.uk
SUMMARY:Siren Brewery
DESCRIPTION:
URL:https://funkypickle.co.uk/event/siren-brewery/
LOCATION:Siren Brewery\, Marino Way\, 18\, Alberto House\, Wokingham\, RG40 4QZ\, United Kingdom
END:VEVENT
END:VCALENDAR