BEGIN:VCALENDAR
VERSION:2.0
PRODID:-//The Funky Pickle Co - ECPv6.15.6//NONSGML v1.0//EN
CALSCALE:GREGORIAN
METHOD:PUBLISH
X-ORIGINAL-URL:https://funkypickle.co.uk
X-WR-CALDESC:Events for The Funky Pickle Co
REFRESH-INTERVAL;VALUE=DURATION:PT1H
X-Robots-Tag:noindex
X-PUBLISHED-TTL:PT1H
BEGIN:VTIMEZONE
TZID:Europe/London
BEGIN:DAYLIGHT
TZOFFSETFROM:+0000
TZOFFSETTO:+0100
TZNAME:BST
DTSTART:20210328T010000
END:DAYLIGHT
BEGIN:STANDARD
TZOFFSETFROM:+0100
TZOFFSETTO:+0000
TZNAME:GMT
DTSTART:20211031T010000
END:STANDARD
BEGIN:DAYLIGHT
TZOFFSETFROM:+0000
TZOFFSETTO:+0100
TZNAME:BST
DTSTART:20220327T010000
END:DAYLIGHT
BEGIN:STANDARD
TZOFFSETFROM:+0100
TZOFFSETTO:+0000
TZNAME:GMT
DTSTART:20221030T010000
END:STANDARD
BEGIN:DAYLIGHT
TZOFFSETFROM:+0000
TZOFFSETTO:+0100
TZNAME:BST
DTSTART:20230326T010000
END:DAYLIGHT
BEGIN:STANDARD
TZOFFSETFROM:+0100
TZOFFSETTO:+0000
TZNAME:GMT
DTSTART:20231029T010000
END:STANDARD
BEGIN:DAYLIGHT
TZOFFSETFROM:+0000
TZOFFSETTO:+0100
TZNAME:BST
DTSTART:20240331T010000
END:DAYLIGHT
BEGIN:STANDARD
TZOFFSETFROM:+0100
TZOFFSETTO:+0000
TZNAME:GMT
DTSTART:20241027T010000
END:STANDARD
END:VTIMEZONE
BEGIN:VEVENT
DTSTART;TZID=Europe/London:20230911T160000
DTEND;TZID=Europe/London:20230911T210000
DTSTAMP:20260419T144504
CREATED:20230827T185724Z
LAST-MODIFIED:20240308T121400Z
UID:10001321-1694448000-1694466000@funkypickle.co.uk
SUMMARY:Boileroom
DESCRIPTION:
URL:https://funkypickle.co.uk/event/boileroom-5/2023-09-11/
LOCATION:The Boiler Room\, The Boileroom Music and Cultural Arts Space\, 13 Stoke Fields\, Guildford\, Surrey\, GU1 4LS\, United Kingdom
END:VEVENT
BEGIN:VEVENT
DTSTART;TZID=Europe/London:20221215T160000
DTEND;TZID=Europe/London:20221215T220000
DTSTAMP:20260419T144504
CREATED:20221101T110842Z
LAST-MODIFIED:20221101T111350Z
UID:10000638-1671120000-1671141600@funkypickle.co.uk
SUMMARY:Boileroom
DESCRIPTION:
URL:https://funkypickle.co.uk/event/boileroom-2/2022-12-15/
LOCATION:The Boiler Room\, The Boileroom Music and Cultural Arts Space\, 13 Stoke Fields\, Guildford\, Surrey\, GU1 4LS\, United Kingdom
END:VEVENT
BEGIN:VEVENT
DTSTART;TZID=Europe/London:20221214T160000
DTEND;TZID=Europe/London:20221214T220000
DTSTAMP:20260419T144504
CREATED:20221101T110842Z
LAST-MODIFIED:20221101T111350Z
UID:10000637-1671033600-1671055200@funkypickle.co.uk
SUMMARY:Boileroom
DESCRIPTION:
URL:https://funkypickle.co.uk/event/boileroom-2/2022-12-14/
LOCATION:The Boiler Room\, The Boileroom Music and Cultural Arts Space\, 13 Stoke Fields\, Guildford\, Surrey\, GU1 4LS\, United Kingdom
END:VEVENT
BEGIN:VEVENT
DTSTART;TZID=Europe/London:20221213T160000
DTEND;TZID=Europe/London:20221213T220000
DTSTAMP:20260419T144504
CREATED:20221101T110842Z
LAST-MODIFIED:20221101T111350Z
UID:10000636-1670947200-1670968800@funkypickle.co.uk
SUMMARY:Boileroom
DESCRIPTION:
URL:https://funkypickle.co.uk/event/boileroom-2/2022-12-13/
LOCATION:The Boiler Room\, The Boileroom Music and Cultural Arts Space\, 13 Stoke Fields\, Guildford\, Surrey\, GU1 4LS\, United Kingdom
END:VEVENT
BEGIN:VEVENT
DTSTART;TZID=Europe/London:20221212T160000
DTEND;TZID=Europe/London:20221212T220000
DTSTAMP:20260419T144504
CREATED:20221101T110842Z
LAST-MODIFIED:20221101T111350Z
UID:10000635-1670860800-1670882400@funkypickle.co.uk
SUMMARY:Boileroom
DESCRIPTION:
URL:https://funkypickle.co.uk/event/boileroom-2/2022-12-12/
LOCATION:The Boiler Room\, The Boileroom Music and Cultural Arts Space\, 13 Stoke Fields\, Guildford\, Surrey\, GU1 4LS\, United Kingdom
END:VEVENT
BEGIN:VEVENT
DTSTART;TZID=Europe/London:20221211T160000
DTEND;TZID=Europe/London:20221211T220000
DTSTAMP:20260419T144504
CREATED:20221101T110842Z
LAST-MODIFIED:20221101T111350Z
UID:10000634-1670774400-1670796000@funkypickle.co.uk
SUMMARY:Boileroom
DESCRIPTION:
URL:https://funkypickle.co.uk/event/boileroom-2/2022-12-11/
LOCATION:The Boiler Room\, The Boileroom Music and Cultural Arts Space\, 13 Stoke Fields\, Guildford\, Surrey\, GU1 4LS\, United Kingdom
END:VEVENT
BEGIN:VEVENT
DTSTART;TZID=Europe/London:20221210T160000
DTEND;TZID=Europe/London:20221210T220000
DTSTAMP:20260419T144504
CREATED:20221101T110842Z
LAST-MODIFIED:20221101T111350Z
UID:10000633-1670688000-1670709600@funkypickle.co.uk
SUMMARY:Boileroom
DESCRIPTION:
URL:https://funkypickle.co.uk/event/boileroom-2/2022-12-10/
LOCATION:The Boiler Room\, The Boileroom Music and Cultural Arts Space\, 13 Stoke Fields\, Guildford\, Surrey\, GU1 4LS\, United Kingdom
END:VEVENT
BEGIN:VEVENT
DTSTART;TZID=Europe/London:20221209T160000
DTEND;TZID=Europe/London:20221209T220000
DTSTAMP:20260419T144504
CREATED:20221101T110842Z
LAST-MODIFIED:20221101T111350Z
UID:10000632-1670601600-1670623200@funkypickle.co.uk
SUMMARY:Boileroom
DESCRIPTION:
URL:https://funkypickle.co.uk/event/boileroom-2/2022-12-09/
LOCATION:The Boiler Room\, The Boileroom Music and Cultural Arts Space\, 13 Stoke Fields\, Guildford\, Surrey\, GU1 4LS\, United Kingdom
END:VEVENT
BEGIN:VEVENT
DTSTART;TZID=Europe/London:20221208T160000
DTEND;TZID=Europe/London:20221208T220000
DTSTAMP:20260419T144504
CREATED:20221101T110842Z
LAST-MODIFIED:20221101T111350Z
UID:10000631-1670515200-1670536800@funkypickle.co.uk
SUMMARY:Boileroom
DESCRIPTION:
URL:https://funkypickle.co.uk/event/boileroom-2/2022-12-08/
LOCATION:The Boiler Room\, The Boileroom Music and Cultural Arts Space\, 13 Stoke Fields\, Guildford\, Surrey\, GU1 4LS\, United Kingdom
END:VEVENT
BEGIN:VEVENT
DTSTART;TZID=Europe/London:20221207T160000
DTEND;TZID=Europe/London:20221207T220000
DTSTAMP:20260419T144504
CREATED:20221101T110842Z
LAST-MODIFIED:20221101T111350Z
UID:10000630-1670428800-1670450400@funkypickle.co.uk
SUMMARY:Boileroom
DESCRIPTION:
URL:https://funkypickle.co.uk/event/boileroom-2/2022-12-07/
LOCATION:The Boiler Room\, The Boileroom Music and Cultural Arts Space\, 13 Stoke Fields\, Guildford\, Surrey\, GU1 4LS\, United Kingdom
END:VEVENT
BEGIN:VEVENT
DTSTART;TZID=Europe/London:20221206T160000
DTEND;TZID=Europe/London:20221206T220000
DTSTAMP:20260419T144504
CREATED:20221101T110842Z
LAST-MODIFIED:20221101T111350Z
UID:10000629-1670342400-1670364000@funkypickle.co.uk
SUMMARY:Boileroom
DESCRIPTION:
URL:https://funkypickle.co.uk/event/boileroom-2/2022-12-06/
LOCATION:The Boiler Room\, The Boileroom Music and Cultural Arts Space\, 13 Stoke Fields\, Guildford\, Surrey\, GU1 4LS\, United Kingdom
END:VEVENT
BEGIN:VEVENT
DTSTART;TZID=Europe/London:20221205T160000
DTEND;TZID=Europe/London:20221205T220000
DTSTAMP:20260419T144504
CREATED:20221101T110842Z
LAST-MODIFIED:20221101T111350Z
UID:10000628-1670256000-1670277600@funkypickle.co.uk
SUMMARY:Boileroom
DESCRIPTION:
URL:https://funkypickle.co.uk/event/boileroom-2/2022-12-05/
LOCATION:The Boiler Room\, The Boileroom Music and Cultural Arts Space\, 13 Stoke Fields\, Guildford\, Surrey\, GU1 4LS\, United Kingdom
END:VEVENT
BEGIN:VEVENT
DTSTART;TZID=Europe/London:20221203T160000
DTEND;TZID=Europe/London:20221203T220000
DTSTAMP:20260419T144504
CREATED:20221101T110842Z
LAST-MODIFIED:20221101T111350Z
UID:10000627-1670083200-1670104800@funkypickle.co.uk
SUMMARY:Boileroom
DESCRIPTION:
URL:https://funkypickle.co.uk/event/boileroom-2/2022-12-03/
LOCATION:The Boiler Room\, The Boileroom Music and Cultural Arts Space\, 13 Stoke Fields\, Guildford\, Surrey\, GU1 4LS\, United Kingdom
END:VEVENT
BEGIN:VEVENT
DTSTART;TZID=Europe/London:20221202T160000
DTEND;TZID=Europe/London:20221202T220000
DTSTAMP:20260419T144504
CREATED:20221101T110842Z
LAST-MODIFIED:20221101T111350Z
UID:10000626-1669996800-1670018400@funkypickle.co.uk
SUMMARY:Boileroom
DESCRIPTION:
URL:https://funkypickle.co.uk/event/boileroom-2/2022-12-02/
LOCATION:The Boiler Room\, The Boileroom Music and Cultural Arts Space\, 13 Stoke Fields\, Guildford\, Surrey\, GU1 4LS\, United Kingdom
END:VEVENT
BEGIN:VEVENT
DTSTART;TZID=Europe/London:20221201T160000
DTEND;TZID=Europe/London:20221201T220000
DTSTAMP:20260419T144504
CREATED:20221101T110842Z
LAST-MODIFIED:20221101T111350Z
UID:10000625-1669910400-1669932000@funkypickle.co.uk
SUMMARY:Boileroom
DESCRIPTION:
URL:https://funkypickle.co.uk/event/boileroom-2/2022-12-01/
LOCATION:The Boiler Room\, The Boileroom Music and Cultural Arts Space\, 13 Stoke Fields\, Guildford\, Surrey\, GU1 4LS\, United Kingdom
END:VEVENT
BEGIN:VEVENT
DTSTART;TZID=Europe/London:20221130T160000
DTEND;TZID=Europe/London:20221130T220000
DTSTAMP:20260419T144504
CREATED:20221101T110842Z
LAST-MODIFIED:20221101T111350Z
UID:10000624-1669824000-1669845600@funkypickle.co.uk
SUMMARY:Boileroom
DESCRIPTION:
URL:https://funkypickle.co.uk/event/boileroom-2/2022-11-30/
LOCATION:The Boiler Room\, The Boileroom Music and Cultural Arts Space\, 13 Stoke Fields\, Guildford\, Surrey\, GU1 4LS\, United Kingdom
END:VEVENT
BEGIN:VEVENT
DTSTART;TZID=Europe/London:20221129T160000
DTEND;TZID=Europe/London:20221129T220000
DTSTAMP:20260419T144504
CREATED:20221101T110842Z
LAST-MODIFIED:20221101T111350Z
UID:10000623-1669737600-1669759200@funkypickle.co.uk
SUMMARY:Boileroom
DESCRIPTION:
URL:https://funkypickle.co.uk/event/boileroom-2/2022-11-29/
LOCATION:The Boiler Room\, The Boileroom Music and Cultural Arts Space\, 13 Stoke Fields\, Guildford\, Surrey\, GU1 4LS\, United Kingdom
END:VEVENT
BEGIN:VEVENT
DTSTART;TZID=Europe/London:20221128T160000
DTEND;TZID=Europe/London:20221128T220000
DTSTAMP:20260419T144504
CREATED:20221101T110842Z
LAST-MODIFIED:20221101T111350Z
UID:10000622-1669651200-1669672800@funkypickle.co.uk
SUMMARY:Boileroom
DESCRIPTION:
URL:https://funkypickle.co.uk/event/boileroom-2/2022-11-28/
LOCATION:The Boiler Room\, The Boileroom Music and Cultural Arts Space\, 13 Stoke Fields\, Guildford\, Surrey\, GU1 4LS\, United Kingdom
END:VEVENT
BEGIN:VEVENT
DTSTART;TZID=Europe/London:20221127T160000
DTEND;TZID=Europe/London:20221127T220000
DTSTAMP:20260419T144504
CREATED:20221101T110842Z
LAST-MODIFIED:20221101T111350Z
UID:10000621-1669564800-1669586400@funkypickle.co.uk
SUMMARY:Boileroom
DESCRIPTION:
URL:https://funkypickle.co.uk/event/boileroom-2/2022-11-27/
LOCATION:The Boiler Room\, The Boileroom Music and Cultural Arts Space\, 13 Stoke Fields\, Guildford\, Surrey\, GU1 4LS\, United Kingdom
END:VEVENT
BEGIN:VEVENT
DTSTART;TZID=Europe/London:20221126T160000
DTEND;TZID=Europe/London:20221126T220000
DTSTAMP:20260419T144504
CREATED:20221101T110842Z
LAST-MODIFIED:20221101T111350Z
UID:10000620-1669478400-1669500000@funkypickle.co.uk
SUMMARY:Boileroom
DESCRIPTION:
URL:https://funkypickle.co.uk/event/boileroom-2/2022-11-26/
LOCATION:The Boiler Room\, The Boileroom Music and Cultural Arts Space\, 13 Stoke Fields\, Guildford\, Surrey\, GU1 4LS\, United Kingdom
END:VEVENT
BEGIN:VEVENT
DTSTART;TZID=Europe/London:20221125T160000
DTEND;TZID=Europe/London:20221125T220000
DTSTAMP:20260419T144504
CREATED:20221101T110842Z
LAST-MODIFIED:20221101T111350Z
UID:10000619-1669392000-1669413600@funkypickle.co.uk
SUMMARY:Boileroom
DESCRIPTION:
URL:https://funkypickle.co.uk/event/boileroom-2/2022-11-25/
LOCATION:The Boiler Room\, The Boileroom Music and Cultural Arts Space\, 13 Stoke Fields\, Guildford\, Surrey\, GU1 4LS\, United Kingdom
END:VEVENT
BEGIN:VEVENT
DTSTART;TZID=Europe/London:20221124T160000
DTEND;TZID=Europe/London:20221124T220000
DTSTAMP:20260419T144504
CREATED:20221101T110842Z
LAST-MODIFIED:20221101T111350Z
UID:10000618-1669305600-1669327200@funkypickle.co.uk
SUMMARY:Boileroom
DESCRIPTION:
URL:https://funkypickle.co.uk/event/boileroom-2/2022-11-24/
LOCATION:The Boiler Room\, The Boileroom Music and Cultural Arts Space\, 13 Stoke Fields\, Guildford\, Surrey\, GU1 4LS\, United Kingdom
END:VEVENT
BEGIN:VEVENT
DTSTART;TZID=Europe/London:20221123T160000
DTEND;TZID=Europe/London:20221123T220000
DTSTAMP:20260419T144504
CREATED:20221101T110842Z
LAST-MODIFIED:20221101T111350Z
UID:10000617-1669219200-1669240800@funkypickle.co.uk
SUMMARY:Boileroom
DESCRIPTION:
URL:https://funkypickle.co.uk/event/boileroom-2/2022-11-23/
LOCATION:The Boiler Room\, The Boileroom Music and Cultural Arts Space\, 13 Stoke Fields\, Guildford\, Surrey\, GU1 4LS\, United Kingdom
END:VEVENT
BEGIN:VEVENT
DTSTART;TZID=Europe/London:20221122T160000
DTEND;TZID=Europe/London:20221122T220000
DTSTAMP:20260419T144504
CREATED:20221101T110842Z
LAST-MODIFIED:20221101T111350Z
UID:10000616-1669132800-1669154400@funkypickle.co.uk
SUMMARY:Boileroom
DESCRIPTION:
URL:https://funkypickle.co.uk/event/boileroom-2/2022-11-22/
LOCATION:The Boiler Room\, The Boileroom Music and Cultural Arts Space\, 13 Stoke Fields\, Guildford\, Surrey\, GU1 4LS\, United Kingdom
END:VEVENT
BEGIN:VEVENT
DTSTART;TZID=Europe/London:20221120T160000
DTEND;TZID=Europe/London:20221120T220000
DTSTAMP:20260419T144504
CREATED:20221101T110842Z
LAST-MODIFIED:20221101T111350Z
UID:10000615-1668960000-1668981600@funkypickle.co.uk
SUMMARY:Boileroom
DESCRIPTION:
URL:https://funkypickle.co.uk/event/boileroom-2/2022-11-20/
LOCATION:The Boiler Room\, The Boileroom Music and Cultural Arts Space\, 13 Stoke Fields\, Guildford\, Surrey\, GU1 4LS\, United Kingdom
END:VEVENT
BEGIN:VEVENT
DTSTART;TZID=Europe/London:20221119T160000
DTEND;TZID=Europe/London:20221119T220000
DTSTAMP:20260419T144504
CREATED:20221101T110842Z
LAST-MODIFIED:20221101T111350Z
UID:10000614-1668873600-1668895200@funkypickle.co.uk
SUMMARY:Boileroom
DESCRIPTION:
URL:https://funkypickle.co.uk/event/boileroom-2/2022-11-19/
LOCATION:The Boiler Room\, The Boileroom Music and Cultural Arts Space\, 13 Stoke Fields\, Guildford\, Surrey\, GU1 4LS\, United Kingdom
END:VEVENT
BEGIN:VEVENT
DTSTART;VALUE=DATE:20221118
DTEND;VALUE=DATE:20221119
DTSTAMP:20260419T144504
CREATED:20221101T111714Z
LAST-MODIFIED:20221101T111714Z
UID:10000639-1668729600-1668815999@funkypickle.co.uk
SUMMARY:Boileroom - Private Party
DESCRIPTION:
URL:https://funkypickle.co.uk/event/boileroom-private-party/
LOCATION:The Boiler Room\, The Boileroom Music and Cultural Arts Space\, 13 Stoke Fields\, Guildford\, Surrey\, GU1 4LS\, United Kingdom
END:VEVENT
BEGIN:VEVENT
DTSTART;TZID=Europe/London:20221117T160000
DTEND;TZID=Europe/London:20221117T220000
DTSTAMP:20260419T144504
CREATED:20221101T110842Z
LAST-MODIFIED:20221101T111350Z
UID:10000613-1668700800-1668722400@funkypickle.co.uk
SUMMARY:Boileroom
DESCRIPTION:
URL:https://funkypickle.co.uk/event/boileroom-2/2022-11-17/
LOCATION:The Boiler Room\, The Boileroom Music and Cultural Arts Space\, 13 Stoke Fields\, Guildford\, Surrey\, GU1 4LS\, United Kingdom
END:VEVENT
BEGIN:VEVENT
DTSTART;TZID=Europe/London:20221116T160000
DTEND;TZID=Europe/London:20221116T220000
DTSTAMP:20260419T144504
CREATED:20221101T110842Z
LAST-MODIFIED:20221101T111350Z
UID:10000612-1668614400-1668636000@funkypickle.co.uk
SUMMARY:Boileroom
DESCRIPTION:
URL:https://funkypickle.co.uk/event/boileroom-2/2022-11-16/
LOCATION:The Boiler Room\, The Boileroom Music and Cultural Arts Space\, 13 Stoke Fields\, Guildford\, Surrey\, GU1 4LS\, United Kingdom
END:VEVENT
BEGIN:VEVENT
DTSTART;TZID=Europe/London:20221115T160000
DTEND;TZID=Europe/London:20221115T220000
DTSTAMP:20260419T144504
CREATED:20221101T110842Z
LAST-MODIFIED:20221101T111350Z
UID:10000611-1668528000-1668549600@funkypickle.co.uk
SUMMARY:Boileroom
DESCRIPTION:
URL:https://funkypickle.co.uk/event/boileroom-2/2022-11-15/
LOCATION:The Boiler Room\, The Boileroom Music and Cultural Arts Space\, 13 Stoke Fields\, Guildford\, Surrey\, GU1 4LS\, United Kingdom
END:VEVENT
END:VCALENDAR